BEGIN:VCALENDAR
VERSION:2.0
PRODID:-//wp-events-plugin.com//7.2.3.1//EN
BEGIN:VEVENT
UID:5@dolphin-dance.org
DTSTART;VALUE=DATE:20161024
DTEND;VALUE=DATE:20161025
DTSTAMP:20160827T053458Z
URL:https://dolphin-dance.org/events/together-at-jacob-burns-film-center/
SUMMARY:Together @ Jacob Burns Film Center\, Pleasantville\, NY
DESCRIPTION:
ATTACH;FMTTYPE=image/jpeg:https://dolphin-dance.org/ddp/wp-content/uploads
 /2009/12/two-in-sync-copy.jpg
CATEGORIES:Screening
LOCATION:Jacob Burns Film Center Cinema\, 364 Manville Rd\, Pleasantville\,
  New York\, United States
GEO:41.1350486;-73.79160569999999
X-APPLE-STRUCTURED-LOCATION;VALUE=URI;X-ADDRESS=364 Manville Rd\, Pleasantv
 ille\, New York\, United States;X-APPLE-RADIUS=100;X-TITLE=Jacob Burns Fil
 m Center Cinema:geo:41.1350486,-73.79160569999999
END:VEVENT
END:VCALENDAR