BEGIN:VCALENDAR
VERSION:2.0
PRODID:-//wp-events-plugin.com//7.2.3.1//EN
BEGIN:VEVENT
UID:12@dolphin-dance.org
DTSTART:20171007T000000Z
DTEND:20171007T020000Z
DTSTAMP:20170914T161704Z
URL:https://dolphin-dance.org/events/dolphin-dreams-sdufex/
SUMMARY:Dolphin Dreams @ SDUFEX in San Diego
DESCRIPTION:Dolphin Dreams at SDUFEX in San Diego
ATTACH;FMTTYPE=image/jpeg:https://dolphin-dance.org/ddp/wp-content/uploads
 /2016/08/DolphinDreams-Poster-Web_Gallery©DolphinDanceProject.jpg
CATEGORIES:Screening
LOCATION:Qualcomm Hall\, 5775 Morehouse Drive\, San Diego\, CA\, United Sta
 tes
GEO:32.8960766;-117.19578460000002
X-APPLE-STRUCTURED-LOCATION;VALUE=URI;X-ADDRESS=5775 Morehouse Drive\, San 
 Diego\, CA\, United States;X-APPLE-RADIUS=100;X-TITLE=Qualcomm Hall:geo:32
 .8960766,-117.19578460000002
END:VEVENT
END:VCALENDAR