BEGIN:VCALENDAR
VERSION:2.0
PRODID:-//wp-events-plugin.com//7.2.3.1//EN
BEGIN:VEVENT
UID:11@dolphin-dance.org
DTSTART:20170723T010000Z
DTEND:20170723T030000Z
DTSTAMP:20170711T153939Z
URL:https://dolphin-dance.org/events/dolphin-dreams-adfs-movies-by-movers-
 in-nyc/
SUMMARY:Dolphin Dreams @ ADFs Movies by Movers in NYC
DESCRIPTION:FREE screening of Dolphin Dreams at BAAD in NYC
ATTACH;FMTTYPE=image/jpeg:https://dolphin-dance.org/ddp/wp-content/uploads
 /2016/08/DolphinDreams-Poster-Web_Gallery©DolphinDanceProject.jpg
CATEGORIES:Screening
LOCATION:Bronx Academy of Arts and Dance aka BAAD\, 2474 Westchester Avenue
 \, Bronx\, New York\, 10461\, United States
GEO:40.8383191;-73.84456610000001
X-APPLE-STRUCTURED-LOCATION;VALUE=URI;X-ADDRESS=2474 Westchester Avenue\, B
 ronx\, New York\, 10461\, United States;X-APPLE-RADIUS=100;X-TITLE=Bronx A
 cademy of Arts and Dance aka BAAD:geo:40.8383191,-73.84456610000001
END:VEVENT
END:VCALENDAR