BEGIN:VCALENDAR
VERSION:2.0
PRODID:-//wp-events-plugin.com//7.2.3.1//EN
BEGIN:VEVENT
UID:4@dolphin-dance.org
DTSTART:20160909T003000Z
DTEND:20160909T030000Z
DTSTAMP:20160827T014152Z
URL:https://dolphin-dance.org/events/amongstpool16/
SUMMARY:Amongst @ POOL16 International Dance Film Festival\, Berlin
DESCRIPTION:POOL 16 International Dance Film Festival\n\nTickets: ticket@d
 ock11-berlin.de
ATTACH;FMTTYPE=image/jpeg:https://dolphin-dance.org/ddp/wp-content/uploads
 /2015/07/amongst-ddp-still.jpg
CATEGORIES:Screening
LOCATION:Dock 2011\, Kastanienallee 79\, Berlin\, Germany
GEO:52.5366486;13.408137799999963
X-APPLE-STRUCTURED-LOCATION;VALUE=URI;X-ADDRESS=Kastanienallee 79\, Berlin\
 , Germany;X-APPLE-RADIUS=100;X-TITLE=Dock 2011:geo:52.5366486,13.408137799
 999963
END:VEVENT
END:VCALENDAR