BEGIN:VCALENDAR
VERSION:2.0
PRODID:-//wp-events-plugin.com//7.2.3.1//EN
BEGIN:VEVENT
UID:8@dolphin-dance.org
DTSTART:20160928T000000Z
DTEND:20160928T010000Z
DTSTAMP:20160902T080809Z
URL:https://dolphin-dance.org/events/amongst-salamanca-moves-tasmania/
SUMMARY:Amongst @ Salamanca Moves\, Tasmania
DESCRIPTION:MOV-ies at Salamanca Moves\n\n$FREE
ATTACH;FMTTYPE=image/jpeg:https://dolphin-dance.org/ddp/wp-content/uploads
 /2015/07/amongst-ddp-still.jpg
CATEGORIES:Screening
LOCATION:Salamanca Arts Center\, 77 Salamanca Square\, Battery Point\, Aust
 ralia
GEO:-42.8880276;147.33190360000003
X-APPLE-STRUCTURED-LOCATION;VALUE=URI;X-ADDRESS=77 Salamanca Square\, Batte
 ry Point\, Australia;X-APPLE-RADIUS=100;X-TITLE=Salamanca Arts Center:geo:
 -42.8880276,147.33190360000003
END:VEVENT
END:VCALENDAR