BEGIN:VCALENDAR
VERSION:2.0
PRODID:-//wp-events-plugin.com//7.2.3.1//EN
BEGIN:VEVENT
UID:10@dolphin-dance.org
DTSTART:20170225T190000Z
DTEND:20170225T210000Z
DTSTAMP:20170219T225017Z
URL:https://dolphin-dance.org/events/amongst-nyjcf-greenwich-ct/
SUMMARY:Amongst @ NYJCF\, Greenwich\, CT
DESCRIPTION:Amongst will screen as one of several short films in the 2016 N
 ew York Japan CineFest tour.
ATTACH;FMTTYPE=image/jpeg:https://dolphin-dance.org/ddp/wp-content/uploads
 /2016/09/Amongst-DDP-Poster-HD-Web.jpg
CATEGORIES:Screening
LOCATION:Greenwhich Library\, 101 West Putnam Avenue\, Greenwich\, CT\, Uni
 ted States
GEO:41.0287632;-73.62947170000001
X-APPLE-STRUCTURED-LOCATION;VALUE=URI;X-ADDRESS=101 West Putnam Avenue\, Gr
 eenwich\, CT\, United States;X-APPLE-RADIUS=100;X-TITLE=Greenwhich Library
 :geo:41.0287632,-73.62947170000001
END:VEVENT
END:VCALENDAR