BEGIN:VCALENDAR
VERSION:2.0
PRODID:-//wp-events-plugin.com//7.2.3.1//EN
BEGIN:VEVENT
UID:9@dolphin-dance.org
DTSTART:20161106T153000Z
DTEND:20161106T163000Z
DTSTAMP:20161019T223853Z
URL:https://dolphin-dance.org/events/amongst-lalaport-tokyo/
SUMMARY:Amongst @ Screen 6\, Toyosu Lalaport\, Tokyo
DESCRIPTION:"Amongst" will screen as part of the NY Japan Cinefest Tour
ATTACH;FMTTYPE=image/jpeg:https://dolphin-dance.org/ddp/wp-content/uploads
 /2009/12/two-in-sync-copy.jpg
CATEGORIES:Screening
LOCATION:Toyosu Lalaport\, Tokyo\, Japan\, 2-4-9 Toyosu\, Tokyo\, Japan\, J
 apan
GEO:35.6551414;139.79276589999995
X-APPLE-STRUCTURED-LOCATION;VALUE=URI;X-ADDRESS=2-4-9 Toyosu\, Tokyo\, Japa
 n\, Japan;X-APPLE-RADIUS=100;X-TITLE=Toyosu Lalaport\, Tokyo\, Japan:geo:3
 5.6551414,139.79276589999995
END:VEVENT
END:VCALENDAR